This is the mail archive of the gcc-testresults@gcc.gnu.org mailing list for the GCC project.


Index Nav: [Date Index] [Subject Index] [Author Index] [Thread Index]
Message Nav: [Date Prev] [Date Next] [Thread Prev] [Thread Next]
Other format: [Raw text]

Results for 3.4.6 testsuite on i386-redhat-linux-gnu


make -k check failed after initial tests.

Atul,
Research Scholor,
ICSI 	 

LAST_UPDATED: Obtained from SVN: tags/gcc_3_4_6_release revision 111785

Native configuration is i386-redhat-linux-gnu

		=== gcc tests ===


Running target unix

		=== gcc Summary ===

# of expected passes		3
/n/shokuji/db/atul/soft/objdir/gcc/xgcc version 3.4.6

		=== g++ tests ===


Running target unix
XPASS: g++.old-deja/g++.other/init5.C execution test

		=== g++ Summary ===

# of expected passes		10023
# of unexpected successes	1
# of expected failures		66
# of unsupported tests		43
/n/shokuji/db/atul/soft/objdir/gcc/testsuite/../g++  version 3.4.6

		=== libstdc++ tests ===


Running target unix
XPASS: 22_locale/locale/cons/12658_thread.cc execution test

		=== libstdc++ Summary ===

# of expected passes		2737
# of unexpected successes	1
# of expected failures		6

Compiler version: 3.4.6 
Platform: i386-redhat-linux-gnu
configure flags: --prefix=/n/shokuji/db/atul/base --program-suffix=34 --enable-__cxa_atexit --enable-shared --enable-threads=posix --disable-checking --with-system-zlib --host=i386-redhat-linux --enable-languages=c,c++


Index Nav: [Date Index] [Subject Index] [Author Index] [Thread Index]
Message Nav: [Date Prev] [Date Next] [Thread Prev] [Thread Next]