This is the mail archive of the
gcc-testresults@gcc.gnu.org
mailing list for the GCC project.
Results for 4.2.0 20060622 (experimental) testsuite on i686-pc-linux-gnu
- From: CodeSourcery Automatic Testing System <gcc at codesourcery dot com>
- To: gcc-testresults at gcc dot gnu dot org
- Date: Thu, 22 Jun 2006 03:22:00 -0700
- Subject: Results for 4.2.0 20060622 (experimental) testsuite on i686-pc-linux-gnu
LAST_UPDATED: Thu Jun 22 07:18:44 UTC 2006 (/trunk revision 114881)
Native configuration is i686-pc-linux-gnu
=== g++ tests ===
Running target unix
=== g++ Summary ===
# of expected passes 12709
# of expected failures 67
# of unsupported tests 69
/scratch/gcc/nightly-2006-06-22-mainline/i686-pc-linux-gnu/build_gcc/install/bin/c++ version 4.2.0 20060622 (experimental)
=== gcc tests ===
Running target unix
=== gcc Summary ===
# of expected passes 39800
# of expected failures 112
# of untested testcases 28
# of unsupported tests 277
/scratch/gcc/nightly-2006-06-22-mainline/i686-pc-linux-gnu/build_gcc/install/bin/gcc version 4.2.0 20060622 (experimental)
=== libstdc++ tests ===
Running target unix
ERROR: tcl error sourcing /scratch/gcc/nightly-2006-06-22-mainline/src/gcc-mainline/libstdc++-v3/testsuite/libstdc++-abi/abi.exp.
ERROR: could not compile testsuite_allocator.cc
ERROR: tcl error sourcing /scratch/gcc/nightly-2006-06-22-mainline/src/gcc-mainline/libstdc++-v3/testsuite/libstdc++-dg/conformance.exp.
ERROR: could not compile testsuite_allocator.cc
=== libstdc++ Summary ===
Compiler version: 4.2.0 20060622 (experimental)
Platform: i686-pc-linux-gnu
configure flags: --disable-nls --build=i686-pc-linux-gnu --host=i686-pc-linux-gnu --target=i686-pc-linux-gnu --enable-languages=c,c++ --enable-shared --enable-threads --disable-libmudflap --disable-libssp --disable-libgomp --disable-libstdcxx-pch --with-gnu-as --with-gnu-ld --prefix=/opt/codesourcery --with-bugurl=http://gcc.gnu.org/bugs.html --with-build-time-tools=/scratch/gcc/nightly-2006-06-22-mainline/i686-pc-linux-gnu/build_gcc/install/i686-pc-linux-gnu/bin --with-build-time-tools=/scratch/gcc/nightly-2006-06-22-mainline/i686-pc-linux-gnu/build_gcc/install/i686-pc-linux-gnu/bin