This is the mail archive of the gcc-testresults@gcc.gnu.org mailing list for the GCC project.


Index Nav: [Date Index] [Subject Index] [Author Index] [Thread Index]
Message Nav: [Date Prev] [Date Next] [Thread Prev] [Thread Next]
Other format: [Raw text]

Results for 4.1.1 testsuite on i686-pc-linux-gnu


This is using the GCC 4.1.1 Release tarball and is based on the
x86 Reference Build recipe from:

  http://www.diy-linux.org/

Using these packages:

FSF binutils-2.16.1
glibc-2.4

Running under a 2.6.16 kernel.

LAST_UPDATED: Obtained from SVN: tags/gcc_4_1_1_release revision 114100

Native configuration is i686-pc-linux-gnu

		=== gcc tests ===


Running target unix

		=== gcc Summary ===

# of expected passes		38362
# of expected failures		101
# of untested testcases		28
# of unsupported tests		243
/temptools/src/gcc-build/gcc/xgcc  version 4.1.1

		=== g++ tests ===


Running target unix
XPASS: g++.dg/tree-ssa/pr14814.C scan-tree-dump-times &this 0
XPASS: g++.old-deja/g++.other/init5.C execution test

		=== g++ Summary ===

# of expected passes		12093
# of unexpected successes	2
# of expected failures		66
# of unsupported tests		66
/temptools/src/gcc-build/gcc/testsuite/g++/../../g++  version 4.1.1

		=== libmudflap tests ===


Running target unix

		=== libmudflap Summary ===

# of expected passes		1799
		=== libstdc++ tests ===


Running target unix
XPASS: 26_numerics/cmath/c99_classification_macros_c.cc (test for excess errors)

		=== libstdc++ Summary ===

# of expected passes		3412
# of unexpected successes	1
# of expected failures		12
# of unsupported tests		315

Compiler version: 4.1.1 
Platform: i686-pc-linux-gnu
configure flags: --libexecdir=/usr/lib --enable-shared --enable-clocale=gnu --enable-threads=posix --enable-__cxa_atexit --enable-languages=c,c++


Index Nav: [Date Index] [Subject Index] [Author Index] [Thread Index]
Message Nav: [Date Prev] [Date Next] [Thread Prev] [Thread Next]