This is the mail archive of the gcc-testresults@gcc.gnu.org mailing list for the GCC project.


Index Nav: [Date Index] [Subject Index] [Author Index] [Thread Index]
Message Nav: [Date Prev] [Date Next] [Thread Prev] [Thread Next]
Other format: [Raw text]

Results for 4.0.3 testsuite on sparc-sun-solaris2.7


LAST_UPDATED: Fri Mar 10 11:04:49 UTC 2006 (revision 111929)

		=== acats tests ===

		=== acats Summary ===
# of expected passes		2320
# of unexpected failures	0
Native configuration is sparc-sun-solaris2.7

		=== g++ tests ===


Running target unix

		=== g++ Summary ===

# of expected passes		11298
# of expected failures		70
# of unsupported tests		120
/opt/build/eric/gcc-4_0-branch/gcc/testsuite/../g++  version 4.0.3

		=== gcc tests ===


Running target unix

		=== gcc Summary ===

# of expected passes		34886
# of expected failures		94
# of untested testcases		28
# of unsupported tests		552
/opt/build/eric/gcc-4_0-branch/gcc/xgcc  version 4.0.3

		=== gfortran tests ===


Running target unix

		=== gfortran Summary ===

# of expected passes		8821
# of expected failures		1
# of unsupported tests		17
/opt/build/eric/gcc-4_0-branch/gcc/testsuite/../gfortran  version 4.0.3

		=== objc tests ===


Running target unix

		=== objc Summary ===

# of expected passes		1554
# of unsupported tests		10
/opt/build/eric/gcc-4_0-branch/gcc/xgcc  version 4.0.3

		=== libstdc++ tests ===


Running target unix

		=== libstdc++ Summary ===

# of expected passes		3712
# of expected failures		14

Compiler version: 4.0.3 
Platform: sparc-sun-solaris2.7
configure flags: --prefix=/opt/build/eric/local/gcc-4_0-branch --with-gmp=/opt/build/eric/local --with-mpfr=/opt/build/eric/local --with-local-prefix=/opt/build/eric/local --disable-libgcj --enable-languages=c,ada,c++,f95,java,objc
BOOT_CFLAGS=-g -O2


Index Nav: [Date Index] [Subject Index] [Author Index] [Thread Index]
Message Nav: [Date Prev] [Date Next] [Thread Prev] [Thread Next]