This is the mail archive of the gcc-testresults@gcc.gnu.org mailing list for the GCC project.


Index Nav: [Date Index] [Subject Index] [Author Index] [Thread Index]
Message Nav: [Date Prev] [Date Next] [Thread Prev] [Thread Next]
Other format: [Raw text]

Results for 4.0.3 testsuite on x86_64-suse-linux-gnu


LAST_UPDATED: Sat Mar 11 06:45:35 UTC 2006 (revision 111957)

		=== acats tests ===

		=== acats Summary ===
# of expected passes		2320
# of unexpected failures	0
Native configuration is x86_64-suse-linux-gnu

		=== gcc tests ===


Running target unix
XPASS: gcc.dg/vect/vect-22.c scan-tree-dump-times vectorized 3 loops 1

		=== gcc Summary ===

# of expected passes		35277
# of unexpected successes	1
# of expected failures		98
# of untested testcases		28
# of unsupported tests		413
/home/eric/build/gcc-4_0-branch/native/gcc/xgcc  version 4.0.3

		=== gfortran tests ===


Running target unix

		=== gfortran Summary ===

# of expected passes		8826
# of expected failures		1
# of unsupported tests		16
/home/eric/build/gcc-4_0-branch/native/gcc/testsuite/../gfortran  version 4.0.3

		=== g++ tests ===


Running target unix
XPASS: g++.old-deja/g++.other/init5.C execution test

		=== g++ Summary ===

# of expected passes		11378
# of unexpected successes	1
# of expected failures		69
# of unsupported tests		85
/home/eric/build/gcc-4_0-branch/native/gcc/testsuite/../g++  version 4.0.3

		=== objc tests ===


Running target unix

		=== objc Summary ===

# of expected passes		1554
# of unsupported tests		10
/home/eric/build/gcc-4_0-branch/native/gcc/xgcc  version 4.0.3

		=== libffi tests ===


Running target unix

		=== libffi Summary ===

# of expected passes		219
# of unsupported tests		2
		=== libjava tests ===


Running target unix

		=== libjava Summary ===

# of expected passes		3899
# of expected failures		10
# of untested testcases		8
		=== libmudflap tests ===


Running target unix

		=== libmudflap Summary ===

# of expected passes		1288
		=== libstdc++ tests ===


Running target unix
XPASS: 22_locale/locale/cons/12658_thread-1.cc execution test
XPASS: 26_numerics/cmath/c99_classification_macros_c.cc (test for excess errors)
XPASS: 27_io/fpos/14320-1.cc execution test

		=== libstdc++ Summary ===

# of expected passes		3713
# of unexpected successes	3
# of expected failures		11

Compiler version: 4.0.3 
Platform: x86_64-suse-linux-gnu
configure flags: x86_64-suse-linux --prefix=/home/eric/install/gcc-4_0-branch --enable-__cxa_atexit --enable-languages=c,ada,c++,f95,java,objc
BOOT_CFLAGS=-g -O2


Index Nav: [Date Index] [Subject Index] [Author Index] [Thread Index]
Message Nav: [Date Prev] [Date Next] [Thread Prev] [Thread Next]