This is the mail archive of the
gcc-testresults@gcc.gnu.org
mailing list for the GCC project.
Results for 4.1.0 20060224 (prerelease) testsuite on i686-pc-linux-gnu
- From: Greg Schafer <gschafer at zip dot com dot au>
- To: gcc-testresults at gcc dot gnu dot org
- Date: Sun, 26 Feb 2006 09:14:16 +1100
- Subject: Results for 4.1.0 20060224 (prerelease) testsuite on i686-pc-linux-gnu
This is using the GCC 4.1 RC2 tarball and is based on the
x86 Reference Build recipe from:
http://www.diy-linux.org/
Using these packages:
FSF binutils-2.16.1
glibc-2.3.6
Running under a 2.6.15 kernel.
LAST_UPDATED: Obtained from SVN: branches/gcc-4_1-branch revision 111413
Native configuration is i686-pc-linux-gnu
=== gcc tests ===
Running target unix
=== gcc Summary ===
# of expected passes 38156
# of expected failures 101
# of untested testcases 28
# of unsupported tests 243
/temptools/src/gcc-build/gcc/xgcc version 4.1.0 20060224 (prerelease)
=== g++ tests ===
Running target unix
XPASS: g++.dg/tree-ssa/pr14814.C scan-tree-dump-times &this 0
XPASS: g++.old-deja/g++.other/init5.C execution test
=== g++ Summary ===
# of expected passes 12006
# of unexpected successes 2
# of expected failures 66
# of unsupported tests 66
/temptools/src/gcc-build/gcc/testsuite/../g++ version 4.1.0 20060224 (prerelease)
=== libmudflap tests ===
Running target unix
=== libmudflap Summary ===
# of expected passes 1789
=== libstdc++ tests ===
Running target unix
XPASS: 26_numerics/cmath/c99_classification_macros_c.cc (test for excess errors)
=== libstdc++ Summary ===
# of expected passes 3399
# of unexpected successes 1
# of expected failures 12
# of unsupported tests 315
Compiler version: 4.1.0 20060224 (prerelease)
Platform: i686-pc-linux-gnu
configure flags: --libexecdir=/usr/lib --enable-shared --enable-clocale=gnu --enable-threads=posix --enable-__cxa_atexit --enable-languages=c,c++