This is the mail archive of the
gcc-testresults@gcc.gnu.org
mailing list for the GCC project.
Results for 4.2.0 20060217 (experimental) gfortran testsuite on x86_64-unknown-linux-gnu
- From: Francois-Xavier Coudert <coudert at lcp dot u-psud dot fr>
- To: gcc-testresults at gcc dot gnu dot org
- Date: Fri, 17 Feb 2006 13:44:03 +0100
- Subject: Results for 4.2.0 20060217 (experimental) gfortran testsuite on x86_64-unknown-linux-gnu
LAST_UPDATED:
Native configuration is x86_64-unknown-linux-gnu
=== gfortran tests ===
Running target unix
=== gfortran Summary ===
# of expected passes11707
# of expected failures20
# of unsupported tests16
/var/tmp/gfortran-20060217/ibin/gcc/testsuite/gfortran/../../gfortran version 4.2.0 20060217 (experimental)
Compiler version: 4.2.0 20060217 (experimental) gfortran
Platform: x86_64-unknown-linux-gnu
configure flags: --prefix=/var/tmp/gfortran-20060217/irun --enable-languages=c,f95,;t t