This is the mail archive of the
gcc-testresults@gcc.gnu.org
mailing list for the GCC project.
Results for 4.1.0 20060126 (prerelease) testsuite on i686-pc-linux-gnu [r110273]
- From: Laurent GUERBY <laurent at guerby dot net>
- To: gcc-test <gcc-testresults at gcc dot gnu dot org>
- Date: Fri, 27 Jan 2006 21:41:34 +0100
- Subject: Results for 4.1.0 20060126 (prerelease) testsuite on i686-pc-linux-gnu [r110273]
LAST_UPDATED: Thu Jan 26 21:01:23 UTC 2006 (revision 110273)
=== acats tests ===
=== acats Summary ===
# of expected passes 2316
# of unexpected failures 0
Native configuration is i686-pc-linux-gnu
=== gcc tests ===
Running target unix
=== gcc Summary ===
# of expected passes 38084
# of expected failures 101
# of untested testcases 28
# of unsupported tests 233
/home/guerby/work/gcc/build/build-4.1-20060126T221202/gcc/xgcc version 4.1.0 20060126 (prerelease)
Compiler version: 4.1.0 20060126 (prerelease)
Platform: i686-pc-linux-gnu
configure flags: --prefix=/home/guerby/work/gcc/install/install-4.1-20060126T221202 --enable-__cxa_atexit --disable-nls --enable-threads=posix --disable-multilib --enable-checking --enable-languages=c,ada