This is the mail archive of the
gcc-testresults@gcc.gnu.org
mailing list for the GCC project.
Results for 4.2.0 20060110 (experimental) gfortran testsuite on i386-pc-linux-gnu
- From: Francois-Xavier Coudert <coudert at lcp dot u-psud dot fr>
- To: gcc-testresults at gcc dot gnu dot org
- Date: Wed, 11 Jan 2006 09:58:46 +0100
- Subject: Results for 4.2.0 20060110 (experimental) gfortran testsuite on i386-pc-linux-gnu
LAST_UPDATED:
Native configuration is i386-pc-linux-gnu
=== gfortran tests ===
Running target unix
=== gfortran Summary ===
# of expected passes11243
# of expected failures15
# of unsupported tests24
/tmp/gfortran-20060111/ibin/gcc/testsuite/../gfortran version 4.2.0 20060110 (experimental)
Compiler version: 4.2.0 20060110 (experimental) gfortran
Platform: i386-pc-linux-gnu
configure flags: --prefix=/tmp/gfortran-20060111/irun --enable-languages=c,fortran --host=i386-linux --with-gmp=/tmp/gfortran-20060111/gfortran_libs,;t t