This is the mail archive of the gcc-testresults@gcc.gnu.org mailing list for the GCC project.
Index Nav: | [Date Index] [Subject Index] [Author Index] [Thread Index] | |
---|---|---|
Message Nav: | [Date Prev] [Date Next] | [Thread Prev] [Thread Next] |
Other format: | [Raw text] |
LAST_UPDATED: Mon Jan 2 21:48:15 UTC 2006 (revision 109245) === acats tests === === acats Summary === # of expected passes 2320 # of unexpected failures 0 Native configuration is x86_64-unknown-linux-gnu === gcc tests === Running target unix XPASS: gcc.dg/vect/vect-22.c scan-tree-dump-times vectorized 3 loops 1 === gcc Summary === # of expected passes 35187 # of unexpected successes 1 # of expected failures 98 # of untested testcases 28 # of unsupported tests 411 /home/guerby/work/gcc/build/build-4.0-20060103T034352/gcc/xgcc version 4.0.3 20060102 (prerelease) Compiler version: 4.0.3 20060102 (prerelease) Platform: x86_64-unknown-linux-gnu configure flags: --prefix=/home/guerby/work/gcc/install/install-4.0-20060103T034352 --enable-__cxa_atexit --disable-nls --enable-threads=posix --disable-multilib --enable-checking --enable-languages=c,ada
Index Nav: | [Date Index] [Subject Index] [Author Index] [Thread Index] | |
---|---|---|
Message Nav: | [Date Prev] [Date Next] | [Thread Prev] [Thread Next] |