This is the mail archive of the gcc-testresults@gcc.gnu.org mailing list for the GCC project.


Index Nav: [Date Index] [Subject Index] [Author Index] [Thread Index]
Message Nav: [Date Prev] [Date Next] [Thread Prev] [Thread Next]
Other format: [Raw text]

Results for 4.0.2 testsuite on i686-pc-linux-gnu


LAST_UPDATED: Obtained from CVS: -rgcc-ss-4_0-20050922


Native configuration is i686-pc-linux-gnu

		=== g++ tests ===


Running target unix
XPASS: g++.old-deja/g++.other/init5.C execution test

		=== g++ Summary ===

# of expected passes		11131
# of unexpected successes	1
# of expected failures		68
# of unsupported tests		56
/home/haren/gcc-4.0-20050922/obj/gcc/testsuite/../g++ 
version 4.0.2

		=== gcc tests ===


Running target unix
XPASS: gcc.dg/vect/vect-22.c scan-tree-dump-times
vectorized 3 loops 1

		=== gcc Summary ===

# of expected passes		35255
# of unexpected successes	1
# of expected failures		94
# of untested testcases		28
# of unsupported tests		328
/home/haren/gcc-4.0-20050922/obj/gcc/xgcc  version
4.0.2

		=== libstdc++ tests ===


Running target unix
XPASS: 22_locale/locale/cons/12658_thread-1.cc
execution test
XPASS:
26_numerics/cmath/c99_classification_macros_c.cc (test
for excess errors)

		=== libstdc++ Summary ===

# of expected passes		3668
# of unexpected successes	2
# of expected failures		12

Compiler version: 4.0.2 
Platform: i686-pc-linux-gnu
configure flags: --prefix=/opt/gcc/4.0/20050922
--enable-clocale=gnu --enable-shared
--enable-threads=posix --enable-__cxa_atexit
--libexecdir=/opt/gcc/20050922/lib
--infodir=/opt/gcc/4.0/20050922/share/info
--mandir=/opt/gcc/4.0/20050922/share/man
--disable-libmudflap --disable-checking
--enable-languages=c,c++



		
___________________________________________________________ 
How much free photo storage do you get? Store your holiday 
snaps for FREE with Yahoo! Photos http://uk.photos.yahoo.com


Index Nav: [Date Index] [Subject Index] [Author Index] [Thread Index]
Message Nav: [Date Prev] [Date Next] [Thread Prev] [Thread Next]