This is the mail archive of the gcc-testresults@gcc.gnu.org mailing list for the GCC project.


Index Nav: [Date Index] [Subject Index] [Author Index] [Thread Index]
Message Nav: [Date Prev] [Date Next] [Thread Prev] [Thread Next]
Other format: [Raw text]

Results for 4.1.0 20050921 (experimental) testsuite oni686-pc-linux-gnu


LAST_UPDATED: Wed Sep 21 06:59:00 UTC 2005

		=== acats tests ===
FAIL:	c32001e
FAIL:	c34007p
FAIL:	c34007r
FAIL:	c45282b
FAIL:	c45532j
FAIL:	c45532l
FAIL:	c45532m
FAIL:	c45532n
FAIL:	c45532o
FAIL:	c45532p
FAIL:	c52103x
FAIL:	c52104x
FAIL:	c52104y
FAIL:	c64105b
FAIL:	c95086b
FAIL:	ca11c01
FAIL:	cdd2a02
FAIL:	ce3806g
FAIL:	ce3806h
FAIL:	ce3810b
FAIL:	cxaa008
FAIL:	cxf2001
FAIL:	cxf2002
FAIL:	cxf2003
FAIL:	cxf2004
FAIL:	cxf2005
FAIL:	cxf2a02
FAIL:	cxg2022

		=== acats Summary ===
# of expected passes		2291
# of unexpected failures	28
Native configuration is i686-pc-linux-gnu

		=== gcc tests ===


Running target unix

		=== gcc Summary ===

# of expected passes		37378
# of expected failures		96
# of untested testcases		28
# of unsupported tests		344
/home/guerby/work/gcc/build/build-20050921T091846/gcc/xgcc  version 4.1.0 20050921 (experimental)


Compiler version: 4.1.0 20050921 (experimental) 
Platform: i686-pc-linux-gnu
configure flags: --prefix=/home/guerby/work/gcc/install/install-20050921T091846 --enable-__cxa_atexit --disable-nls --enable-threads=posix --disable-multilib --enable-checking --enable-languages=c,ada



Index Nav: [Date Index] [Subject Index] [Author Index] [Thread Index]
Message Nav: [Date Prev] [Date Next] [Thread Prev] [Thread Next]