This is the mail archive of the gcc-testresults@gcc.gnu.org mailing list for the GCC project.


Index Nav: [Date Index] [Subject Index] [Author Index] [Thread Index]
Message Nav: [Date Prev] [Date Next] [Thread Prev] [Thread Next]
Other format: [Raw text]

Results for 4.1.0 20050908 (experimental) testsuite oni686-pc-linux-gnu


With http://gcc.gnu.org/ml/gcc/2005-09/msg00215.html

LAST_UPDATED: Thu Sep  8 17:17:57 UTC 2005

		=== acats tests ===
FAIL:	c32001e
FAIL:	c34007p
FAIL:	c34007r
FAIL:	c45282b
FAIL:	c52103x
FAIL:	c52104f
FAIL:	c52104h
FAIL:	c52104x
FAIL:	c52104y
FAIL:	c64105b
FAIL:	c95086b
FAIL:	ca11c01
FAIL:	cd10002
FAIL:	cdd2a02

		=== acats Summary ===
# of expected passes		2305
# of unexpected failures	14
Native configuration is i686-pc-linux-gnu

		=== gcc tests ===


Running target unix

		=== gcc Summary ===

# of expected passes		37312
# of expected failures		100
# of untested testcases		28
# of unsupported tests		343
/home/guerby/work/gcc/build/build-20050908T191957/gcc/xgcc  version 4.1.0 20050908 (experimental)


Compiler version: 4.1.0 20050908 (experimental) 
Platform: i686-pc-linux-gnu
configure flags: --prefix=/home/guerby/work/gcc/install/install-20050908T191957 --enable-__cxa_atexit --disable-nls --enable-threads=posix --disable-multilib --enable-checking --enable-languages=c,ada



Index Nav: [Date Index] [Subject Index] [Author Index] [Thread Index]
Message Nav: [Date Prev] [Date Next] [Thread Prev] [Thread Next]