This is the mail archive of the
gcc-testresults@gcc.gnu.org
mailing list for the GCC project.
Results for 4.1.0 20050628 (experimental) gfortran testsuite on x86_64-unknown-linux-gnu
- From: Francois-Xavier Coudert <coudert at lcp dot u-psud dot fr>
- To: gcc-testresults at gcc dot gnu dot org
- Date: Tue, 28 Jun 2005 12:15:10 +0200
- Subject: Results for 4.1.0 20050628 (experimental) gfortran testsuite on x86_64-unknown-linux-gnu
LAST_UPDATED:
Native configuration is x86_64-unknown-linux-gnu
=== gfortran tests ===
Running target unix
XPASS: gfortran.dg/vect/vect-5.f90 -O scan-tree-dump-times vectorized 2 loops 1
XPASS: gfortran.dg/vect/vect-5.f90 -O scan-tree-dump-times Alignment of access forced using peeling 1
XPASS: gfortran.dg/vect/vect-5.f90 -O scan-tree-dump-times Vectorizing an unaligned access 2
=== gfortran Summary ===
# of expected passes7436
# of unexpected successes3
# of expected failures17
# of unsupported tests16
/var/tmp/gfortran-20050628/ibin/gcc/testsuite/../gfortran version 4.1.0 20050628 (experimental)
Compiler version: 4.1.0 20050628 (experimental) gfortran
Platform: x86_64-unknown-linux-gnu
configure flags: --prefix=/var/tmp/gfortran-20050628/irun --enable-languages=c,f95,;t t