This is the mail archive of the
gcc-testresults@gcc.gnu.org
mailing list for the GCC project.
Results for 3.4.4 testsuite on hppa2.0w-hp-hpux11.23
- From: CodeSourcery Automatic Testing System <gcc at codesourcery dot com>
- To: gcc-testresults at gcc dot gnu dot org
- Date: Sat, 18 Jun 2005 04:54:24 -0700
- Subject: Results for 3.4.4 testsuite on hppa2.0w-hp-hpux11.23
LAST_UPDATED: Sat Jun 18 09:17:10 UTC 2005
Native configuration is hppa2.0w-hp-hpux11.23
=== g++ tests ===
=== g++ Summary ===
/scratch/gcc/nightly-2005-06-18-mainline/hppa2.0w-hp-hpux11.23/build_gcc/install/bin/c++ version 4.1.0 20050618 (experimental)
=== gcc tests ===
=== gcc Summary ===
/usr/local/tools/gcc-3.4.0/bin/gcc version 3.4.4
=== libstdc++ tests ===
=== libstdc++ Summary ===
Compiler version: 3.4.4
Platform: hppa2.0w-hp-hpux11.23
configure flags: --disable-nls --build=hppa2.0w-hp-hpux11.23 --host=hppa2.0w-hp-hpux11.23 --target=hppa2.0w-hp-hpux11.23 --enable-threads=posix --disable-libmudflap --with-gnu-as --with-as=/scratch/gcc/nightly-2005-06-18-mainline/hppa2.0w-hp-hpux11.23/build_gcc/install/bin/as --without-gnu-ld --with-ld=/usr/ccs/bin/ld --prefix=/scratch/gcc/nightly-2005-06-18-mainline/hppa2.0w-hp-hpux11.23/build_gcc/install --enable-languages=c,c++