This is the mail archive of the
gcc-testresults@gcc.gnu.org
mailing list for the GCC project.
Results for 4.0.1 20050526 (prerelease) testsuite oni686-pc-linux-gnu
- From: Laurent GUERBY <laurent at guerby dot net>
- To: gcc-testresults at gcc dot gnu dot org
- Date: Sat, 28 May 2005 01:22:47 +0200
- Subject: Results for 4.0.1 20050526 (prerelease) testsuite oni686-pc-linux-gnu
LAST_UPDATED: Thu May 26 18:39:00 UTC 2005
=== acats tests ===
=== acats Summary ===
# of expected passes 2320
# of unexpected failures 0
Native configuration is i686-pc-linux-gnu
=== gcc tests ===
Running target unix
XPASS: gcc.dg/vect/vect-22.c scan-tree-dump-times vectorized 3 loops 1
=== gcc Summary ===
# of expected passes 34775
# of unexpected successes 1
# of expected failures 101
# of untested testcases 28
# of unsupported tests 328
/home/guerby/work/gcc/build/build-20050527T032012/gcc/xgcc version 4.0.1 20050526 (prerelease)
Compiler version: 4.0.1 20050526 (prerelease)
Platform: i686-pc-linux-gnu
configure flags: --prefix=/home/guerby/work/gcc/install/install-20050527T032012 --enable-__cxa_atexit --disable-nls --enable-threads=posix --disable-multilib --enable-checking --enable-languages=c,ada