This is the mail archive of the gcc-testresults@gcc.gnu.org mailing list for the GCC project.
Index Nav: | [Date Index] [Subject Index] [Author Index] [Thread Index] | |
---|---|---|
Message Nav: | [Date Prev] [Date Next] | [Thread Prev] [Thread Next] |
Other format: | [Raw text] |
Hi, these are test results for the GCC 4.0.0. Here again i used a functional simulator as target-board. I did not change the original testsuite - this explains the amount of errors (eg. nested funcs are not supported, no label values, ...) The compiler was configured with: ../gcc/configure --target=crx-elf --enable-languages=c,c++ --disable-nls --prefix=/home/paul/scratch/CR_GNU/linux-install === gcc Summary === # of expected passes 32023 # of unexpected failures 496 # of unexpected successes 2 # of expected failures 73 # of unresolved testcases 268 # of untested testcases 28 # of unsupported tests 323 /home/paul/scratch/i-gcc-4.0.0/bin/crx-elf-gcc version 4.0.0
Attachment:
gcc.sum.bz2
Description: BZip2 compressed data
Index Nav: | [Date Index] [Subject Index] [Author Index] [Thread Index] | |
---|---|---|
Message Nav: | [Date Prev] [Date Next] | [Thread Prev] [Thread Next] |