This is the mail archive of the gcc-testresults@gcc.gnu.org mailing list for the GCC project.


Index Nav: [Date Index] [Subject Index] [Author Index] [Thread Index]
Message Nav: [Date Prev] [Date Next] [Thread Prev] [Thread Next]
Other format: [Raw text]

Results for 4.0.0 testsuite on i686-pc-linux-gnu


LAST_UPDATED: Thu Mar 10 07:51:30 UTC 2005

Native configuration is i686-pc-linux-gnu

		=== g++ tests ===


Running target unix

		=== g++ Summary ===

# of expected passes		10901
# of expected failures		70
# of unsupported tests		56
/opt/toolchain/i686/obj/upstream/gcc-4.0/gcc/testsuite/../g++  version 4.0.0

		=== gcc tests ===


Running target unix
XPASS: gcc.dg/vect/vect-22.c scan-tree-dump-times vectorized 3 loops 1

		=== gcc Summary ===

# of expected passes		33863
# of unexpected successes	1
# of expected failures		101
# of untested testcases		28
# of unsupported tests		324
/opt/toolchain/i686/obj/upstream/gcc-4.0/gcc/xgcc  version 4.0.0

		=== libstdc++ tests ===


Running target unix
XPASS: 22_locale/locale/cons/12658_thread-1.cc execution test
XPASS: 26_numerics/cmath/c99_classification_macros_c.cc (test for excess errors)

		=== libstdc++ Summary ===

# of expected passes		3610
# of unexpected successes	2
# of expected failures		12

Compiler version: 4.0.0 
Platform: i686-pc-linux-gnu
configure flags: --prefix=/opt/toolchain/i686/tot --program-suffix=-4.0 --with-system-zlib --enable-nls --without-included-gettext --enable-languages=c,c++
Counting all warnings,
there are 0 warnings in stage3 of this bootstrap.

Number of warnings per file:

Number of warning types:


Index Nav: [Date Index] [Subject Index] [Author Index] [Thread Index]
Message Nav: [Date Prev] [Date Next] [Thread Prev] [Thread Next]