This is the mail archive of the
gcc-testresults@gcc.gnu.org
mailing list for the GCC project.
Results for 4.0.0 20050408 (prerelease) testsuite oni686-pc-linux-gnu
- From: Laurent GUERBY <laurent at guerby dot net>
- To: gcc-testresults at gcc dot gnu dot org
- Date: Fri, 08 Apr 2005 12:47:12 +0200
- Subject: Results for 4.0.0 20050408 (prerelease) testsuite oni686-pc-linux-gnu
LAST_UPDATED: Fri Apr 8 07:18:57 UTC 2005
=== acats tests ===
=== acats Summary ===
# of expected passes 2320
# of unexpected failures 0
Native configuration is i686-pc-linux-gnu
=== gcc tests ===
Running target unix
XPASS: gcc.dg/vect/vect-22.c scan-tree-dump-times vectorized 3 loops 1
=== gcc Summary ===
# of expected passes 33834
# of unexpected successes 1
# of expected failures 101
# of untested testcases 28
# of unsupported tests 322
/home/guerby/work/gcc/build/build-20050408T093122/gcc/xgcc version 4.0.0 20050408 (prerelease)
Compiler version: 4.0.0 20050408 (prerelease)
Platform: i686-pc-linux-gnu
configure flags: --prefix=/home/guerby/work/gcc/install/install-20050408T093122 --enable-__cxa_atexit --disable-nls --enable-threads=posix --enable-checking --enable-languages=c,ada