This is the mail archive of the
gcc-testresults@gcc.gnu.org
mailing list for the GCC project.
Results for 3.4.4 20041108 (prerelease) testsuite on x86_64-unknown-linux-gnu
- From: dmiles at fcahs3 dot fc dot hp dot com
- To: gcc-testresults at gcc dot gnu dot org
- Date: Mon, 8 Nov 2004 09:45:14 -0700 (MST)
- Subject: Results for 3.4.4 20041108 (prerelease) testsuite on x86_64-unknown-linux-gnu
LAST_UPDATED: Mon Nov 8 16:29:58 UTC 2004
WARNING: global config file x86_64-pc-linux-gnu not found.
Native configuration is x86_64-unknown-linux-gnu
=== gcc tests ===
Running target unix
=== gcc Summary ===
# of expected passes 576
/home/dmiles/opt/toolchain/amd64/obj/gcc-3.4/gcc/xgcc version 3.4.4 20041108 (prerelease)
=== gcc tests ===
Running target unix
=== gcc Summary ===
# of expected passes 576
/home/dmiles/opt/toolchain/amd64/obj/gcc-3.4/gcc/xgcc version 3.4.4 20041108 (prerelease)
Compiler version: 3.4.4 20041108 (prerelease)
Platform: x86_64-unknown-linux-gnu
configure flags: --enable-shared --enable-languages=c,c++ --program-suffix=-3.4 --with-system-zlib --enable-nls --without-included-gettext --disable-multilib --prefix=/home/dmiles/opt/toolchain/amd64
Counting all warnings,
there are 22 warnings in stage3 of this bootstrap.
Number of warnings per file:
11 gengtype-lex.c
4 gcc/config/i386/i386.md
3 insn-conditions.c
3 gcc/gcc.c
1 gcc/libgcc2.c
Number of warning types:
6 string length \`???' is greater than the length \`???' ISO C89 compilers are required to support
2 source missing a mode?
2 operand 1 missing mode?
1 no previous prototype for 'yyset_out'
1 no previous prototype for 'yyset_lineno'
1 no previous prototype for 'yyset_in'
1 no previous prototype for 'yyset_debug'
1 no previous prototype for 'yylex_destroy'
1 no previous prototype for 'yyget_text'
1 no previous prototype for 'yyget_out'
1 no previous prototype for 'yyget_lineno'
1 no previous prototype for 'yyget_leng'
1 no previous prototype for 'yyget_in'
1 no previous prototype for 'yyget_debug'
1 no previous prototype for '__enable_execute_stack'