This is the mail archive of the
gcc-testresults@gcc.gnu.org
mailing list for the GCC project.
Results for 3.4.2 testsuite on sparc64-sun-solaris2.9
- From: Eric Botcazou <eric at localhost dot localdomain>
- To: gcc-testresults at gcc dot gnu dot org
- Date: Fri, 10 Sep 2004 17:20:47 +0200
- Subject: Results for 3.4.2 testsuite on sparc64-sun-solaris2.9
LAST_UPDATED: Fri Sep 10 06:17:48 UTC 2004
Native configuration is sparc64-sun-solaris2.9
=== g++ tests ===
Running target unix
WARNING: g++.dg/eh/simd-1.C compilation failed to produce executable
WARNING: g++.dg/eh/simd-2.C compilation failed to produce executable
XPASS: g++.dg/rtti/tinfo1.C scan-assembler _ZTIP9CTemplateIhE:
XPASS: g++.dg/rtti/tinfo1.C scan-assembler-not .globl[ \\t]+_ZTIP9CTemplateIhE
WARNING: g++.old-deja/g++.mike/p10769a.C compilation failed to produce executable
WARNING: g++.old-deja/g++.other/enum5.C compilation failed to produce executable
WARNING: g++.old-deja/g++.pt/friend44.C compilation failed to produce executable
=== g++ Summary ===
# of expected passes 9602
# of unexpected successes 2
# of expected failures 69
# of unsupported tests 80
/opt/build/eric/gcc-3_4-branch/gcc/testsuite/../g++ version 3.4.2
=== g77 tests ===
Running target unix
=== g77 Summary ===
# of expected passes 1800
# of unsupported tests 6
/opt/build/eric/gcc-3_4-branch/gcc/testsuite/../g77 version 3.4.2
=== gcc tests ===
Running target unix
UNRESOLVED: gcc.c-torture/execute/simd-4.c execution, -O0
UNRESOLVED: gcc.c-torture/execute/va-arg-25.c execution, -O0
UNRESOLVED: gcc.c-torture/execute/va-arg-25.c execution, -O1
UNRESOLVED: gcc.c-torture/execute/va-arg-25.c execution, -O2
UNRESOLVED: gcc.c-torture/execute/va-arg-25.c execution, -O3 -fomit-frame-pointer
UNRESOLVED: gcc.c-torture/execute/va-arg-25.c execution, -O3 -g
UNRESOLVED: gcc.c-torture/execute/va-arg-25.c execution, -Os
UNRESOLVED: gcc.dg/compat/vector-1 c_compat_x_tst.o-c_compat_y_tst.o link
UNRESOLVED: gcc.dg/compat/vector-1 c_compat_x_tst.o-c_compat_y_tst.o execute
UNRESOLVED: gcc.dg/compat/vector-2 c_compat_x_tst.o-c_compat_y_tst.o link
UNRESOLVED: gcc.dg/compat/vector-2 c_compat_x_tst.o-c_compat_y_tst.o execute
XPASS: gcc.dg/uninit-4.c uninitialized variable warning (test for bogus messages, line 26)
UNRESOLVED: gcc.dg/visibility-1.c
UNRESOLVED: gcc.dg/visibility-2.c
UNRESOLVED: gcc.dg/visibility-3.c
UNRESOLVED: gcc.dg/visibility-4.c
UNRESOLVED: gcc.dg/visibility-5.c
UNRESOLVED: gcc.dg/visibility-6.c
UNRESOLVED: gcc.dg/visibility-7.c
UNRESOLVED: gcc.dg/visibility-8.c
=== gcc Summary ===
# of expected passes 24356
# of unexpected successes 1
# of expected failures 84
# of unresolved testcases 19
# of untested testcases 7
# of unsupported tests 343
/opt/build/eric/gcc-3_4-branch/gcc/xgcc version 3.4.2
=== objc tests ===
Running target unix
=== objc Summary ===
# of expected passes 1352
# of unsupported tests 8
/opt/build/eric/gcc-3_4-branch/gcc/xgcc version 3.4.2
=== libstdc++ tests ===
Running target unix
XPASS: 22_locale/locale/cons/12658_thread.cc execution test
=== libstdc++ Summary ===
# of expected passes 2709
# of unexpected successes 1
# of expected failures 6
Compiler version: 3.4.2
Platform: sparc64-sun-solaris2.9
configure flags: sparc64-sun-solaris2.9 --prefix=/opt/build/eric/local --enable-languages=c,c++,objc,f77 --with-as=/usr/ccs/bin/as --with-ld=/usr/ccs/bin/ld