This is the mail archive of the
gcc-testresults@gcc.gnu.org
mailing list for the GCC project.
Results for gcc acats testsuite on i586-redhat-linux-gnu
- From: Eric Botcazou <eric at localhost dot localdomain>
- To: gcc-testresults at gcc dot gnu dot org
- Date: Sat, 4 Sep 2004 14:42:06 +0200
- Subject: Results for gcc acats testsuite on i586-redhat-linux-gnu
LAST_UPDATED: Fri Sep 3 04:47:26 UTC 2004
=== acats tests ===
=== acats Summary ===
# of expected passes 2322
# of unexpected failures 0
Compiler version: gcc acats
Platform:
configure flags: i586-redhat-linux-gnu --prefix=/home/eric/gnat/local --enable-languages=c,ada --enable-checking=misc,tree,rtlflag