This is the mail archive of the
gcc-testresults@gcc.gnu.org
mailing list for the GCC project.
Results for [3.4] 3.4.1 testsuite on i686-pc-linux-gnu
- From: "Autocrasher" <autocrasher at devphil dot com>
- To: gcc-testresults at gcc dot gnu dot org
- Date: 2 Jul 2004 14:00:02 -0000
- Subject: Results for [3.4] 3.4.1 testsuite on i686-pc-linux-gnu
The configure/build/test log and libstdc++-v3 regression plots can be
found at http://www.devphil.com/build/
Host was an x86-type system.
This particular run used standard (previously installed) binutils.
- The Autocrasher (Phil's Builder Bot, version 2.0)
LAST_UPDATED: Fri Jul 2 08:11:42 UTC 2004
Native configuration is i686-pc-linux-gnu
=== g++ tests ===
Running target unix
WARNING: g++.old-deja/g++.mike/p10769a.C compilation failed to produce executable
WARNING: g++.old-deja/g++.other/enum5.C compilation failed to produce executable
XPASS: g++.old-deja/g++.other/init5.C execution test
WARNING: g++.old-deja/g++.pt/friend44.C compilation failed to produce executable
=== g++ Summary ===
# of expected passes 9639
# of unexpected successes 1
# of expected failures 67
# of unsupported tests 32
/mnt/build/build-2004-07-02-3.4/gcc/testsuite/../g++ version 3.4.1
=== libstdc++-v3 check-abi Summary ===
# of added symbols: 336
# of missing symbols: 328
# of incompatible symbols: 328
=== libstdc++ tests ===
Running target unix
XPASS: 26_numerics/c99_classification_macros_c.cc (test for excess errors)
=== libstdc++ Summary ===
# of expected passes 2696
# of unexpected successes 1
# of expected failures 5
Compiler version: 3.4.1
Platform: i686-pc-linux-gnu
configure flags: --prefix=/mnt/build/install-2004-07-02-3.4 --enable-threads=posix --enable-__cxa_atexit --enable-languages=c++ --with-dwarf2