This is the mail archive of the gcc-testresults@gcc.gnu.org mailing list for the GCC project.


Index Nav: [Date Index] [Subject Index] [Author Index] [Thread Index]
Message Nav: [Date Prev] [Date Next] [Thread Prev] [Thread Next]
Other format: [Raw text]

Results for 3.4.0 testsuite on sparc-sun-solaris2.7


LAST_UPDATED: Mon Apr 19 04:11:42 UTC 2004

Native configuration is sparc-sun-solaris2.7

		=== g++ tests ===


Running target unix
WARNING: g++.dg/eh/simd-1.C compilation failed to produce executable
WARNING: g++.dg/eh/simd-2.C compilation failed to produce executable
WARNING: g++.old-deja/g++.mike/p10769a.C compilation failed to produce executable
WARNING: g++.old-deja/g++.other/enum5.C compilation failed to produce executable
WARNING: g++.old-deja/g++.pt/friend44.C compilation failed to produce executable

		=== g++ Summary ===

# of expected passes		9481
# of expected failures		69
# of unsupported tests		67
/opt/build/eric/gcc-3_4-branch/gcc/testsuite/../g++ version 3.4.0

		=== g77 tests ===


Running target unix

		=== g77 Summary ===

# of expected passes		1800
# of unsupported tests		6
/opt/build/eric/gcc-3_4-branch/gcc/testsuite/../g77 version 3.4.0

		=== gcc tests ===


Running target unix
UNRESOLVED: gcc.c-torture/execute/simd-4.c execution,  -O0 
UNRESOLVED: gcc.dg/compat/vector-1 c_compat_x_tst.o-c_compat_y_tst.o link 
UNRESOLVED: gcc.dg/compat/vector-1 c_compat_x_tst.o-c_compat_y_tst.o execute 
UNRESOLVED: gcc.dg/compat/vector-2 c_compat_x_tst.o-c_compat_y_tst.o link 
UNRESOLVED: gcc.dg/compat/vector-2 c_compat_x_tst.o-c_compat_y_tst.o execute 
XPASS: gcc.dg/uninit-4.c uninitialized variable warning (test for bogus messages, line 26)
UNRESOLVED: gcc.dg/visibility-1.c
UNRESOLVED: gcc.dg/visibility-2.c
UNRESOLVED: gcc.dg/visibility-3.c
UNRESOLVED: gcc.dg/visibility-4.c
UNRESOLVED: gcc.dg/visibility-5.c
UNRESOLVED: gcc.dg/visibility-6.c
UNRESOLVED: gcc.dg/visibility-7.c
UNRESOLVED: gcc.dg/visibility-8.c

		=== gcc Summary ===

# of expected passes		24175
# of unexpected successes	1
# of expected failures		72
# of unresolved testcases	13
# of untested testcases		7
# of unsupported tests		312
/opt/build/eric/gcc-3_4-branch/gcc/xgcc version 3.4.0

		=== objc tests ===


Running target unix

		=== objc Summary ===

# of expected passes		1341
# of unsupported tests		8
/opt/build/eric/gcc-3_4-branch/gcc/xgcc version 3.4.0

		=== libstdc++ tests ===


Running target unix

		=== libstdc++ Summary ===

# of expected passes		2647
# of expected failures		6

Compiler version: 3.4.0 
Platform: sparc-sun-solaris2.7
configure flags: --prefix=/opt/build/eric/local --enable-languages=c,c++,objc,f77 --with-as=/usr/ccs/bin/as --with-ld=/usr/ccs/bin/ld --disable-nls


Index Nav: [Date Index] [Subject Index] [Author Index] [Thread Index]
Message Nav: [Date Prev] [Date Next] [Thread Prev] [Thread Next]