This is the mail archive of the
gcc-testresults@gcc.gnu.org
mailing list for the GCC project.
Results for gcc acats testsuite on
- From: Eric Botcazou <eric at localhost dot localdomain>
- To: gcc-testresults at gcc dot gnu dot org
- Date: Wed, 24 Mar 2004 16:34:39 +0100
- Subject: Results for gcc acats testsuite on
LAST_UPDATED: Wed Mar 24 10:18:48 UTC 2004
=== acats tests ===
=== acats Summary ===
# of expected passes 2322
# of unexpected failures 0
Compiler version: gcc acats
Platform:
configure flags: i586-redhat-linux-gnu --prefix=/home/eric/gnat/local --enable-checking=misc,tree,rtlflag --enable-languages=c,ada
BOOT_CFLAGS=-g -O2