This is the mail archive of the
gcc-testresults@gcc.gnu.org
mailing list for the GCC project.
Results for 3.5.0 20040307 (experimental) on hppa2.0-unknown-linux-gnu
- From: ja2morri at csclub dot uwaterloo dot ca (James Morrison)
- To: gcc-testresults at gcc dot gnu dot org
- Date: Mon, 8 Mar 2004 01:23:32 -0500 (EST)
- Subject: Results for 3.5.0 20040307 (experimental) on hppa2.0-unknown-linux-gnu
Configure flags: --prefix=/home/jim/var/hppa-linux --target=hppa2.0-unknown-linux-gnu --with-gcc-version-trigger=/home/jim/cvs/gcc.ssh/gcc/gcc/version.c
Here is the diff from yesterday:
New tests that PASS:
gcc.c-torture/execute/20040307-1.c compilation, -O0
gcc.c-torture/execute/20040307-1.c compilation, -O1
gcc.c-torture/execute/20040307-1.c compilation, -O2
gcc.c-torture/execute/20040307-1.c compilation, -O3 -fomit-frame-pointer
gcc.c-torture/execute/20040307-1.c compilation, -O3 -fomit-frame-pointer -funroll-all-loops -finline-functions
gcc.c-torture/execute/20040307-1.c compilation, -O3 -fomit-frame-pointer -funroll-loops
gcc.c-torture/execute/20040307-1.c compilation, -O3 -g
gcc.c-torture/execute/20040307-1.c compilation, -Os
gcc.c-torture/execute/20040307-1.c execution, -O0
gcc.c-torture/execute/20040307-1.c execution, -O1
gcc.c-torture/execute/20040307-1.c execution, -O2
gcc.c-torture/execute/20040307-1.c execution, -O3 -fomit-frame-pointer
gcc.c-torture/execute/20040307-1.c execution, -O3 -fomit-frame-pointer -funroll-all-loops -finline-functions
gcc.c-torture/execute/20040307-1.c execution, -O3 -fomit-frame-pointer -funroll-loops
gcc.c-torture/execute/20040307-1.c execution, -O3 -g
gcc.c-torture/execute/20040307-1.c execution, -Os
gcc.dg/20040306-1.c (test for excess errors)
gcc.dg/decl-6.c (test for excess errors)
And now the Actual results:
Test Run By jim on Sun Mar 7 15:38:29 2004
Native configuration is hppa2.0-unknown-linux-gnu
=== gcc Summary ===
# of expected passes 24462
# of unexpected failures 2
# of expected failures 62
# of untested testcases 7
# of unsupported tests 320
/cvs/gcc.ssh/hppa-linux-20040307/gcc/xgcc version 3.5.0 20040307 (experimental)
Test Run By jim on Sun Mar 7 18:59:55 2004
Native configuration is hppa2.0-unknown-linux-gnu
=== g++ Summary ===
# of expected passes 9585
# of unexpected successes 1
# of expected failures 79
# of unsupported tests 76
/cvs/gcc.ssh/hppa-linux-20040307/gcc/testsuite/../g++ version 3.5.0 20040307 (experimental)
Test Run By jim on Sun Mar 7 20:34:10 2004
Native configuration is hppa2.0-unknown-linux-gnu
=== g77 Summary ===
# of expected passes 1788
# of unsupported tests 6
/cvs/gcc.ssh/hppa-linux-20040307/gcc/testsuite/../g77 version 3.5.0 20040307 (experimental)
Test Run By jim on Sun Mar 7 20:58:16 2004
Native configuration is hppa2.0-unknown-linux-gnu
=== objc Summary ===
# of expected passes 1341
# of unsupported tests 8
/cvs/gcc.ssh/hppa-linux-20040307/gcc/xgcc version 3.5.0 20040307 (experimental)
Test Run By jim on Sun Mar 7 21:15:04 2004
Native configuration is hppa2.0-unknown-linux-gnu
=== libstdc++ Summary ===
# of expected passes 2581
# of unexpected failures 10
# of unexpected successes 1
# of expected failures 5