This is the mail archive of the
gcc-testresults@gcc.gnu.org
mailing list for the GCC project.
Results for 3.3.3 20031211 (prerelease) testsuite on i686-suse-linux-gnu
- From: Andreas Jaeger <aj at suse dot de>
- To: gcc-testresults at gcc dot gnu dot org
- Date: Thu, 11 Dec 2003 10:25:28 UT
- Subject: Results for 3.3.3 20031211 (prerelease) testsuite on i686-suse-linux-gnu
Bootstrap and regtesting on i686-suse-linux-gnu.
CVS sources: branch: 3.3 release branch.
LAST_UPDATED: Thu Dec 11 05:40:47 UTC 2003
Native configuration is i686-suse-linux-gnu
=== g++ tests ===
Running target unix
XPASS: g++.other/init5.C Execution test
=== g++ Summary ===
# of expected passes 8173
# of unexpected successes 1
# of expected failures 94
# of untested testcases 9
# of unsupported tests 14
/builds/gcc/misc/gcc/testsuite/../g++ version 3.3.3 20031211 (prerelease)
=== g77 tests ===
Running target unix
=== g77 Summary ===
# of expected passes 1702
/builds/gcc/misc/gcc/testsuite/../g77 version 3.3.3 20031211 (prerelease)
=== gcc tests ===
Running target unix
ERROR: (DejaGnu) proc "scan-file xwin1.i {(^|
=== gcc Summary ===
# of expected passes 15165
# of expected failures 22
# of unsupported tests 1
/builds/gcc/misc/gcc/xgcc version 3.3.3 20031211 (prerelease)
=== objc tests ===
Running target unix
=== objc Summary ===
# of expected passes 1155
/builds/gcc/misc/gcc/xgcc version 3.3.3 20031211 (prerelease)
=== treelang tests ===
Running target unix
=== treelang Summary ===
# of expected passes 1
=== libstdc++-v3 check-abi Summary ===
# of added symbols: 0
# of missing symbols: 0
# of incompatible symbols: 0
=== libstdc++-v3 tests ===
Running target unix
XPASS: 22_locale/collate_byname.cc execution test
XPASS: 22_locale/collate_members_char.cc execution test
XPASS: 22_locale/collate_members_wchar_t.cc execution test
XPASS: 22_locale/ctype_is_char.cc execution test
XPASS: 22_locale/ctype_is_wchar_t.cc execution test
XPASS: 22_locale/members.cc execution test
XPASS: 22_locale/money_get_members_char.cc execution test
XPASS: 22_locale/money_get_members_wchar_t.cc execution test
XPASS: 22_locale/money_put_members_char.cc execution test
XPASS: 22_locale/money_put_members_wchar_t.cc execution test
XPASS: 22_locale/moneypunct_byname.cc execution test
XPASS: 22_locale/moneypunct_members_char.cc execution test
XPASS: 22_locale/moneypunct_members_wchar_t.cc execution test
XPASS: 22_locale/num_get_members_char.cc execution test
XPASS: 22_locale/num_get_members_wchar_t.cc execution test
XPASS: 22_locale/num_put_members_char.cc execution test
XPASS: 22_locale/num_put_members_wchar_t.cc execution test
XPASS: 22_locale/numpunct_byname.cc execution test
XPASS: 22_locale/numpunct_members_char.cc execution test
XPASS: 22_locale/numpunct_members_wchar_t.cc execution test
XPASS: 22_locale/time_get_members_char.cc execution test
XPASS: 22_locale/time_get_members_wchar_t.cc execution test
=== libstdc++-v3 Summary ===
# of expected passes 453
# of unexpected successes 22
# of expected failures 6
Compiler version: 3.3.3 20031211 (prerelease)
Platform: i686-suse-linux-gnu
configure flags: --host=i686-suse-linux-gnu --prefix=/opt/gcc/3.3-devel --disable-nls --enable-threads=posix --enable-clocale=gnu --enable-__cxa_atexit --enable-shared --enable-languages=c,c++,ada,treelang,f77,objc --with-system-zlib
Version of binutils: GNU ld version 2.14.90.0.5 20030722 (SuSE Linux)
Version of glibc (/lib/libc.so.6): 2.3.2 (20030827)