This is the mail archive of the
gcc-testresults@gcc.gnu.org
mailing list for the GCC project.
Results for 3.2 testsuite on sparc-sun-solaris2.7
- From: Asif Haswarey <asifhh at order dot sfbay dot sun dot com>
- To: gcc-testresults at gcc dot gnu dot org
- Date: Thu, 24 Apr 2003 18:06:33 -0700 (PDT)
- Subject: Results for 3.2 testsuite on sparc-sun-solaris2.7
LAST_UPDATED:
Native configuration is sparc-sun-solaris2.7
=== g++ tests ===
Running target unix
=== gcc tests ===
Running target unix
UNRESOLVED: weak-1.c
UNRESOLVED: weak-2.c
UNRESOLVED: wkali-1.c
UNRESOLVED: wkali-2.c
=== gcc Summary ===
# of expected passes 18261
# of expected failures 66
# of unresolved testcases 4
# of unsupported tests 111
/home/asifhh/local/src/gcc-3.2/gcc-3.2/objdir/gcc/xgcc version 3.2
Compiler version: 3.2
Platform: sparc-sun-solaris2.7
configure flags: --host=sparc-sun-solaris2.7 --prefix=~/local/lang/gcc-3.2 --exec-prefix=~/local/lang/gcc-3.2 --enable-shared --enable-threads --enable-languages=c,c++ --disable-nls