This is the mail archive of the
gcc-testresults@gcc.gnu.org
mailing list for the GCC project.
Results for 3.2.1 testsuite on i686-pc-linux-gnu
- From: "A.J. Mottes" <ajm at localhost dot localdomain>
- To: gcc-testresults at gcc dot gnu dot org
- Date: Sun, 24 Nov 2002 17:50:17 -0500
- Subject: Results for 3.2.1 testsuite on i686-pc-linux-gnu
LAST_UPDATED:
Native configuration is i686-pc-linux-gnu
=== g77 tests ===
Running target unix
=== g77 Summary ===
# of expected passes 1468
/home/ajm/src/gcc_build/gcc/testsuite/../g77 version 3.2.1
=== gcc tests ===
Running target unix
=== gcc Summary ===
# of expected passes 18540
# of expected failures 68
# of unsupported tests 44
/home/ajm/src/gcc_build/gcc/xgcc version 3.2.1
=== g++ tests ===
Running target unix
XPASS: g++.other/init5.C Execution test
=== g++ Summary ===
# of expected passes 7336
# of unexpected successes 1
# of expected failures 88
# of untested testcases 9
# of unsupported tests 3
/home/ajm/src/gcc_build/gcc/testsuite/../g++ version 3.2.1
=== objc tests ===
Running target unix
=== objc Summary ===
# of expected passes 1035
# of expected failures 6
/home/ajm/src/gcc_build/gcc/xgcc version 3.2.1
Compiler version: 3.2.1
Platform: i686-pc-linux-gnu
configure flags: --host=i686-pc-linux-gnu --enable-shared --enable-threads=posix --disable-checking --with-system-zlib --enable-__cxa_atexit