This is the mail archive of the gcc-testresults@gcc.gnu.org mailing list for the GCC project.


Index Nav: [Date Index] [Subject Index] [Author Index] [Thread Index]
Message Nav: [Date Prev] [Date Next] [Thread Prev] [Thread Next]
Other format: [Raw text]

Results for 3.2.1 testsuite on i686-pc-linux-gnu


gcc-3.2.1 was build on a 1GHz Dual PIII running 
SuSE7.1
kernel 2.4.5
glibc 2.2-17
binutils 2.13

gcc was configured with --enable-threads
Only C and ObjC were build
LAST_UPDATED: 
Native configuration is i686-pc-linux-gnu

		=== gcc tests ===


Running target unix

		=== gcc Summary ===

# of expected passes		18540
# of expected failures		68
# of unsupported tests		44
/cg/disks/kagran/people/ceh/Projects/gcc/ix86gcc321/gcc/xgcc version 3.2.1

		=== objc tests ===


Running target unix

		=== objc Summary ===

# of expected passes		1035
# of expected failures		6
/cg/disks/kagran/people/ceh/Projects/gcc/ix86gcc321/gcc/xgcc version 3.2.1


Compiler version: 3.2.1 
Platform: i686-pc-linux-gnu
configure flags: --host=i686-pc-linux-gnu --prefix=/usr/local/gcc-3.2.1 --with-as=/usr/local/bin/as --with-ld=/usr/local/bin/ld --enable-threads


Index Nav: [Date Index] [Subject Index] [Author Index] [Thread Index]
Message Nav: [Date Prev] [Date Next] [Thread Prev] [Thread Next]