This is the mail archive of the
gcc-testresults@gcc.gnu.org
mailing list for the GCC project.
Results for gcc testsuite on i386-redhat-linux-gnu
- From: Alkis Evlogimenos <alkise at routescience dot com>
- To: gcc-testresults at gcc dot gnu dot org
- Date: Sat, 5 Oct 2002 03:22:06 -0700
- Subject: Results for gcc testsuite on i386-redhat-linux-gnu
Native configuration is i386-redhat-linux-gnu
=== libio tests ===
Running target unix
=== libio Summary ===
# of expected passes 40
=== libstdc++ tests ===
Running target unix
=== libstdc++ Summary ===
# of expected passes 30
=== gcc tests ===
Running target unix
=== gcc Summary ===
=== g++ tests ===
Running target unix
=== g++ Summary ===
=== g77 tests ===
Running target unix
=== g77 Summary ===
=== objc tests ===
Running target unix
=== objc Summary ===
Compiler version: gcc
Platform: i386-redhat-linux-gnu
configure flags: --with-gcc-version-trigger=/h/alkise/gcc-2.95.3/gcc/version.c --host=i386-redhat-linux --prefix=/usr --enable-shared --enable-threads --enable-version-specific-runtime-libs --enable-languages=c++ --norecursion