This is the mail archive of the gcc-testresults@gcc.gnu.org mailing list for the GCC project.


Index Nav: [Date Index] [Subject Index] [Author Index] [Thread Index]
Message Nav: [Date Prev] [Date Next] [Thread Prev] [Thread Next]
Other format: [Raw text]

Results for 3.2 testsuite on i686-pc-linux-gnu


Hello,

  results of
  /contrib/test_summary -p  \\
        -m gcc-testresults@gcc.gnu.org |sh
:-)

Arnold Schiller

LAST_UPDATED: 
Native configuration is i686-pc-linux-gnu

		=== g++ tests ===


Running target unix

		=== g++ Summary ===

# of expected passes		7270
# of expected failures		88
# of untested testcases		9
# of unsupported tests		3
/work/schiller/gcc/gcc32obj/gcc/testsuite/../g++ version 3.2

		=== g77 tests ===


Running target unix

		=== g77 Summary ===

# of expected passes		1468
/work/schiller/gcc/gcc32obj/gcc/testsuite/../g77 version 3.2

		=== objc tests ===


Running target unix

		=== objc Summary ===

# of expected passes		1035
# of expected failures		6
/work/schiller/gcc/gcc32obj/gcc/xgcc version 3.2

		=== libjava tests ===


Running target unix

		=== libjava Summary ===

# of expected passes		2075
# of expected failures		18
# of untested testcases		14

Compiler version: 3.2 
Platform: i686-pc-linux-gnu
configure flags: --host=i686-pc-linux-gnu --enable-threads=posix --enable-long-long --prefix=/usr/local --with-local-prefix=/usr/local --enable-languages=c,c++,f77,objc,java


Index Nav: [Date Index] [Subject Index] [Author Index] [Thread Index]
Message Nav: [Date Prev] [Date Next] [Thread Prev] [Thread Next]