This is the mail archive of the
gcc-testresults@gcc.gnu.org
mailing list for the GCC project.
Results for gcc testsuite on i686-pc-linux-gnu
- From: root <root at maxi dot babsi dot com>
- To: gcc-testresults at gcc dot gnu dot org
- Date: Sun, 15 Sep 2002 01:30:50 +0200
- Subject: Results for gcc testsuite on i686-pc-linux-gnu
Hello,
results of
/contrib/test_summary -p \\
-m gcc-testresults@gcc.gnu.org |sh
;-)
Arnold Schiller
LAST_UPDATED:
Native configuration is i686-pc-linux-gnu
=== gcc tests ===
Running target unix
=== libstdc++-v3 tests ===
Running target unix
=== tests ===
Running target unix
=== Summary ===
Compiler version: gcc
Platform: i686-pc-linux-gnu
configure flags: --host=i686-pc-linux-gnu --enable-threads=posix --enable-long-long --prefix=/usr/local --with-local-prefix=/usr/local --enable-languages=c,c++,f77,objc,java