This is the mail archive of the gcc-testresults@gcc.gnu.org mailing list for the GCC project.


Index Nav: [Date Index] [Subject Index] [Author Index] [Thread Index]
Message Nav: [Date Prev] [Date Next] [Thread Prev] [Thread Next]
Other format: [Raw text]

Results for 3.2 testsuite on sparc-sun-solaris2.7


I did this bootstrap of gcc-3.2 on a quadruple ultrasparc workstation running solaris2.7 with binutils 2.13 installed.
Because of problems with libgcc while testing and after installing, I had to make this symbolic link:
ln -s libgcc.a libgcc_s.a

LAST_UPDATED: 
Native configuration is sparc-sun-solaris2.7

		=== objc tests ===


Running target unix

		=== objc Summary ===

# of expected passes		1035
# of expected failures		6
/homecg/people/ceh/Projects/gcc/solarisgcc32/gcc/xgcc version 3.2

		=== gcc tests ===


Running target unix

		=== gcc Summary ===

# of expected passes		18439
# of expected failures		66
# of unsupported tests		111
/homecg/people/ceh/Projects/gcc/solarisgcc32/gcc/xgcc version 3.2

		=== objc tests ===


Running target unix

		=== objc Summary ===

# of expected passes		1035
# of expected failures		6
/homecg/people/ceh/Projects/gcc/solarisgcc32/gcc/xgcc version 3.2

		=== objc tests ===


Running target unix

		=== objc Summary ===


Compiler version: 3.2 
Platform: sparc-sun-solaris2.7
configure flags: --host=sparc-sun-solaris2.7 --prefix=/homecg/people/ceh/solaris2.7/gcc-3.2 --with-as=/homecg/people/ceh/solaris2.7/bin/gas --with-ld=/homecg/people/ceh/solaris2.7/bin/gld --disable-multilib


Index Nav: [Date Index] [Subject Index] [Author Index] [Thread Index]
Message Nav: [Date Prev] [Date Next] [Thread Prev] [Thread Next]