This is the mail archive of the gcc-testresults@gcc.gnu.org mailing list for the GCC project.


Index Nav: [Date Index] [Subject Index] [Author Index] [Thread Index]
Message Nav: [Date Prev] [Date Next] [Thread Prev] [Thread Next]
Other format: [Raw text]

Results for 3.1.1 testsuite on i686-pc-linux-gnu


LAST_UPDATED: 
Native configuration is i686-pc-linux-gnu

		=== g77 tests ===


Running target unix

		=== g77 Summary ===

# of expected passes		1468
/home/jun/gcc-3.1.1/gcc/testsuite/../g77 version 3.1.1

		=== gcc tests ===


Running target unix

		=== gcc Summary ===

# of expected passes		380
/home/jun/gcc-3.1.1/gcc/xgcc version 3.1.1

		=== g++ tests ===


Running target unix

		=== g++ Summary ===

# of expected passes		7258
# of expected failures		88
# of untested testcases		9
# of unsupported tests		3
/home/jun/gcc-3.1.1/gcc/testsuite/../g++ version 3.1.1

		=== objc tests ===


Running target unix

		=== objc Summary ===

# of expected passes		1035
# of expected failures		6
/home/jun/gcc-3.1.1/gcc/xgcc version 3.1.1


Compiler version: 3.1.1 
Platform: i686-pc-linux-gnu
configure flags: %g


Index Nav: [Date Index] [Subject Index] [Author Index] [Thread Index]
Message Nav: [Date Prev] [Date Next] [Thread Prev] [Thread Next]