This is the mail archive of the
gcc-testresults@gcc.gnu.org
mailing list for the GCC project.
Results for 3.0.3 testsuite on i686-pc-linux-gnu
- From: root at CJ497665-A dot alex1 dot va dot home dot com
- To: gcc-testresults at gcc dot gnu dot org
- Date: Tue, 1 Jan 2002 20:09:04 -0500
- Subject: Results for 3.0.3 testsuite on i686-pc-linux-gnu
Paul Harouff
Alexandria, VA
USA
pharouff@home.com
Slackware 8.0
Kernel 2.4.16
AMD Athlon 1.2GHz Step 2
128MB
LAST_UPDATED:
Native configuration is i686-pc-linux-gnu
=== g++ tests ===
Running target unix
=== g++ Summary ===
/usr/local/obj/gcc-3.0.3/gcc/testsuite/../g++ version 3.0.3
=== g77 tests ===
Running target unix
=== g77 Summary ===
=== gcc tests ===
Running target unix
=== gcc Summary ===
/usr/local/obj/gcc-3.0.3/gcc/xgcc version 3.0.3
=== objc tests ===
Running target unix
=== objc Summary ===
/usr/local/obj/gcc-3.0.3/gcc/xgcc version 3.0.3
=== libjava tests ===
Running target unix
=== libjava Summary ===
=== libstdc++-v3 tests ===
Running target unix
=== libstdc++-v3 Summary ===
Compiler version: 3.0.3
Platform: i686-pc-linux-gnu
configure flags: --host=i686-pc-linux-gnu