This is the mail archive of the
gcc-testresults@gcc.gnu.org
mailing list for the GCC project.
Results for 3.0.2 testsuite on i586-pc-linux-gnu
- To: gcc-testresults at gcc dot gnu dot org
- Subject: Results for 3.0.2 testsuite on i586-pc-linux-gnu
- From: Jason Meade <jason at lao_tsu dot my_home>
- Date: Sat, 3 Nov 2001 23:07:22 -0800
I just compiled the latest gcc on my laptop, running Red Hat 7.1.
I've got tcl, expect, and the latest DejaGnu (1.4). The testsuite
files seemed to have had an error sourcing some files (tcl is not
by best language, so maybe I misread the logs).
Anyhow, the compile took about 4 hours but finished successfully.
(I have 96 MB ram, 192 MB swap). :)
Here's my /proc/cpuinfo, just in case it helps.
-Jason
processor : 0
vendor_id : AuthenticAMD
cpu family : 5
model : 7
model name : AMD-K6tm w/ multimedia extensions
stepping : 0
cpu MHz : 295.201
cache size : 64 KB
fdiv_bug : no
hlt_bug : no
f00f_bug : no
coma_bug : no
fpu : yes
fpu_exception : yes
cpuid level : 1
wp : yes
flags : fpu vme de pse tsc msr mce cx8 mmx
bogomips : 588.18
LAST_UPDATED:
Native configuration is i586-pc-linux-gnu
=== g77 tests ===
Running target unix
=== g77 Summary ===
# of unsupported tests 8
=== gcc tests ===
Running target unix
=== gcc Summary ===
/home/jason/builds/gcc-3.0.2.bin/gcc/xgcc version 3.0.2
=== g++ tests ===
Running target unix
=== g++ Summary ===
/home/jason/builds/gcc-3.0.2.bin/gcc/testsuite/../g++ version 3.0.2
=== objc tests ===
Running target unix
=== objc Summary ===
/home/jason/builds/gcc-3.0.2.bin/gcc/xgcc version 3.0.2
=== libjava tests ===
Running target unix
=== libjava Summary ===
=== libstdc++-v3 tests ===
Running target unix
=== libstdc++-v3 Summary ===
Compiler version: 3.0.2
Platform: i586-pc-linux-gnu
configure flags: --host=i586-pc-linux-gnu --prefix=/usr