This is the mail archive of the
gcc-testresults@gcc.gnu.org
mailing list for the GCC project.
Results for 3.0 testsuite on i686-pc-linux-gnu
- To: gcc-testresults at gcc dot gnu dot org
- Subject: Results for 3.0 testsuite on i686-pc-linux-gnu
- From: Tom Howard <thoward at PCTHOWARD-2529 dot emea dot tibco dot com>
- Date: Fri, 13 Jul 2001 14:19:10 +0100
Native configuration is i686-pc-linux-gnu
=== g77 tests ===
Running target unix
=== g77 Summary ===
=== gcc tests ===
Running target unix
=== gcc Summary ===
gcc version 3.0
=== g++ tests ===
Running target unix
=== g++ Summary ===
gcc version 3.0
=== objc tests ===
Running target unix
=== objc Summary ===
gcc version 3.0
=== libjava tests ===
Running target unix
=== libjava Summary ===
=== libstdc++-v3 tests ===
Running target unix
=== libstdc++-v3 Summary ===
Compiler version: 3.0
Platform: i686-pc-linux-gnu
configure flags: --host=i686-pc-linux-gnu --prefix=/home/thoward/gcc-3.0 --enable-shared --enable-threads --enable-version-specific-runtime-libs --enable-languages=c++,java