This is the mail archive of the
gcc-testresults@gcc.gnu.org
mailing list for the GCC project.
Results for 3.0 testsuite on i586-pc-linux-gnu
- To: gcc-testresults at gcc dot gnu dot org
- Subject: Results for 3.0 testsuite on i586-pc-linux-gnu
- From: root <root at localhost dot localdomain>
- Date: Sat, 23 Jun 2001 23:36:04 -0500
RedHat 7.0 platform. The testsuites do not run.
Native configuration is i586-pc-linux-gnu
=== g77 tests ===
Running target unix
=== g77 Summary ===
# of unsupported tests 8
=== gcc tests ===
Running target unix
=== gcc Summary ===
/misc/utils/gcc-3.0/gcc30/gcc/xgcc version 3.0
=== g++ tests ===
Running target unix
=== g++ Summary ===
/misc/utils/gcc-3.0/gcc30/gcc/testsuite/../g++ version 3.0
=== objc tests ===
Running target unix
=== objc Summary ===
/misc/utils/gcc-3.0/gcc30/gcc/xgcc version 3.0
=== libjava tests ===
Running target unix
=== libjava Summary ===
=== libstdc++-v3 tests ===
Running target unix
=== libstdc++-v3 Summary ===
Compiler version: 3.0
Platform: i586-pc-linux-gnu
configure flags: --host=i586-pc-linux-gnu --prefix=/usr/local/gcc-30 --enable-languages=c++,java