This is the mail archive of the
gcc-testresults@gcc.gnu.org
mailing list for the GCC project.
Results for haifa-enabled gcc testsuite on sparc-sun-solaris2.6
- To: gcc-testresults at gcc dot gnu dot org
- Subject: Results for haifa-enabled gcc testsuite on sparc-sun-solaris2.6
- From: Dave Schuler <schuld at psu2 dot btv dot ibm dot com>
- Date: Tue, 26 Oct 1999 17:14:37 -0400 (EDT)
Native configuration is sparc-sun-solaris2.6
=== libio tests ===
Running target unix
=== libio Summary ===
# of expected passes 40
=== libstdc++ tests ===
Running target unix
=== libstdc++ Summary ===
# of expected passes 30
=== gcc tests ===
Running target unix
=== gcc Summary ===
=== g++ tests ===
Running target unix
=== g++ Summary ===
=== g77 tests ===
Running target unix
=== g77 Summary ===
=== objc tests ===
Running target unix
=== objc Summary ===
Compiler version: haifa-enabled gcc
Platform: sparc-sun-solaris2.6
configure flags: --with-gcc-version-trigger=/usr/local/psu2/WORKSPACE2/schuld/gcc-2.95.2/gcc/version.c --host=sparc-sun-solaris2.6 --prefix=/afs/btv.ibm.com/data/n37v/software/gnu-solaris --with-gnu-as --with-gnu-ld --enable-haifa --enable-multilib --norecursion
Counting all warnings,
there are 3 warnings in stage3 of this bootstrap.
Number of warnings per file:
2 cxxmain.c
1 ../../../gcc/gcc/f/com.c
Number of warning types:
2 assignment discards qualifiers from pointer target type
1 unused parameter ???