This is the mail archive of the
gcc-testresults@gcc.gnu.org
mailing list for the EGCS project.
Results for haifa-enabled gcc testsuite on i586-redhat-linux-gnu
- To: gcc-testresults@gcc.gnu.org
- Subject: Results for haifa-enabled gcc testsuite on i586-redhat-linux-gnu
- From: Horst von Brand <vonbrand@sleipnir.valparaiso.cl>
- Date: Sat, 31 Jul 1999 22:52:29 -0400
Native configuration is i586-redhat-linux-gnu
=== libio tests ===
Running target unix
=== libio Summary ===
# of expected passes 40
=== libstdc++ tests ===
Running target unix
=== libstdc++ Summary ===
# of expected passes 30
=== gcc tests ===
Running target unix
=== g++ tests ===
Running target unix
=== g77 tests ===
Running target unix
=== objc tests ===
Running target unix
Compiler version: haifa-enabled gcc
Platform: i586-redhat-linux-gnu
configure flags: --with-gcc-version-trigger=/usr/src/build/gcc-2.95/gcc/version.c --host=i586-redhat-linux --enable-shared --enable-threads --enable-haifa --prefix=/usr --norecursion